Workbook

Sheet BC_Sáng
A1: TRƯỜNG CAO ĐẲNG LÝ TỰ TRỌNG | E1: CỘNG HÒA XÃ HỘI CHỦ NGHĨA VIỆT NAM
A2: THÀNH PHỐ HỒ CHÍ MINH | E2: Độc lập - Tự do - Hạnh phúc
A3: PHÒNG THANH TRA GIÁO DỤC
A4: - CÔNG TÁC SINH VIÊN
A6: BÁO CÁO NHANH
A7: Tình hình học sinh, sinh viên đi học
A8: (Sáng 13/5/2020)
A10: S TT | B10: LỚP | C10: Tổng số | D10: Hiện diện | E10: % | G10: Tiết | H10: Ghi chú
A11: Điện, Điện tử
A12: 1 | B12: 17T4-ĐCN1 | C12: 43 | D12: 30 | E12: =D12*100/C12 -> 69.767442 | F12: Nguyễn Tiến Dương (TG) | G12: 1 - 2
A13: 2 | B13: 17T4-ĐĐT1 | C13: 50 | D13: 39 | E13: =D13*100/C13 -> 78 | F13: Nguyễn Tiến Dương (TG) | G13: 3 - 5
A14: 3 | B14: 17T4-ĐĐT1 | C14: 35 | D14: 30 | E14: =D14*100/C14 -> 85.714286 | F14: Tạ Minh Cường | G14: 6 - 6
A15: 4 | B15: 19T4-ĐCN1 | C15: 43 | D15: 35 | E15: =D15*100/C15 -> 81.395349 | F15: Nguyễn Thị Cẩm Loan (TG) | G15: 1 - 2
F16: Trần Thị Ánh Tuyết | G16: 3 - 4
A17: 5 | B17: 19T4-ĐCN2 | C17: 41 | D17: 32 | E17: =D17*100/C17 -> 78.04878 | F17: Nguyễn Văn Đông | G17: 1 - 2
F18: Hồ Khắc Khuyên (TG) | G18: 3 - 4
A19: 6 | B19: 19T4-ĐĐT1 | C19: 39 | D19: 22 | E19: =D19*100/C19 -> 56.410256 | F19: Nguyễn Văn Úy (TG) | G19: 1 - 4 | H19: 1
A20: 7 | B20: 19T4-ĐĐT2 | C20: 33 | D20: 25 | E20: =D20*100/C20 -> 75.757576 | F20: Bùi Văn Giỏi (TG) | G20: 1 - 4 | H20: 2
A21: 8 | B21: 18C1-CĐT1 | C21: 33 | D21: 27 | E21: =D21*100/C21 -> 81.818182 | F21: Trần Giang Nam | G21: 1 - 6 | H21: 1
A22: 9 | B22: 18C1-ĐCN1 | C22: 21 | D22: 17 | E22: =D22*100/C22 -> 80.952381 | F22: Nguyễn Minh Đức (TG) | G22: 1 - 6 | H22: 1
A23: 10 | B23: 18C1-ĐCN2 | C23: 49 | D23: 39 | E23: =D23*100/C23 -> 79.591837 | F23: Nguyễn Anh Tăng | G23: 1 - 2
F24: Nguyễn Văn Yên | G24: 3 - 4
F25: Trần Nam Anh | G25: 5 - 5
F26: Nguyễn Văn Yên | G26: 6 - 6
A27: 11 | B27: 18C1-ĐCN3 | C27: 36 | D27: 31 | E27: =D27*100/C27 -> 86.111111 | F27: Nguyễn Văn Yên | G27: 1 - 2
F28: Nguyễn Anh Tăng | G28: 3 - 4
F29: Lê Thế Huân | G29: 5 - 5
A30: 12 | B30: 18C1-ĐCN4 | C30: 23 | D30: 19 | E30: =D30*100/C30 -> 82.608696 | F30: Võ Cường | G30: 1 - 6 | H30: 1
A31: 13 | B31: 18C1-ĐĐT1 | C31: 39 | D31: 31 | E31: =D31*100/C31 -> 79.487179 | F31: Ngô Phong Cường | G31: 1 - 2
F32: Tạ Minh Cường | G32: 3 - 4
F33: Nguyễn Thị Kim Anh | G33: 5 - 5
A34: 14 | B34: 18C1-ĐĐT2 | C34: 38 | D34: 34 | E34: =D34*100/C34 -> 89.473684 | F34: Nguyễn Thị Tố Nga | G34: 1 - 2
F35: Trần Thị Thu Hà | G35: 3 - 3
A36: 15 | B36: 18C1-ĐĐT3 | C36: 48 | D36: 48 | E36: =D36*100/C36 -> 100 | F36: Tạ Minh Cường | G36: 1 - 2
F37: Nguyễn Thị Tố Nga | G37: 3 - 4
A38: 16 | B38: 18C1-TĐH1 | C38: 32 | D38: 29 | E38: =D38*100/C38 -> 90.625 | F38: Lê Tiến Đạt | G38: 1 - 6 | H38: 1
A39: 17 | B39: 19C1-ĐCN1 | C39: 58 | D39: 50 | E39: =D39*100/C39 -> 86.206897 | F39: Nguyễn Đức Thắng | G39: 1 - 3
F40: Lê Thị Mai Hường | G40: 4 - 6
A41: 18 | B41: 19C1-ĐCN2 | C41: 59 | D41: 38 | E41: =D41*100/C41 -> 64.40678 | F41: Lê Thái Hùng | G41: 1 - 2
F42: Hoàng Thị Trang | G42: 3 - 4
A43: 19 | B43: 19C1-ĐCN3 | C43: 36 | D43: 25 | E43: =D43*100/C43 -> 69.444444 | F43: Hoàng Thị Trang | G43: 1 - 2
F44: Lê Thái Hùng | G44: 3 - 5
A45: 20 | B45: 19C1-ĐĐT1 | C45: 62 | D45: 45 | E45: =D45*100/C45 -> 72.580645 | F45: Nguyễn Thị Ngọc Hiền | G45: 1 - 2
F46: Nguyễn Thị Dinh | G46: 3 - 4
A47: 21 | B47: 19C1-ĐĐT2 | C47: 57 | D47: 40 | E47: =D47*100/C47 -> 70.175439 | F47: Nguyễn Mạnh Phương | G47: 1 - 2
F48: Nguyễn Thị Ngọc Hiền | G48: 3 - 4
F49: Nguyễn Thị Dinh | G49: 5 - 6
A50: =A47 -> 21 | B50: Tổng cộng = | C50: =SUM(C12:C49) -> 875 | D50: =SUM(D12:D49) -> 686 | E50: =D50*100/C50 -> 78.4
A51: Cơ khí
A52: 1 | B52: 17T4-CCK1 | C52: 26 | D52: 21 | E52: =D52*100/C52 -> 80.769231 | F52: Phan Văn Thành | G52: 1 - 6 | H52: 1
A53: 2 | B53: 17T4-CKL1 | C53: 14 | D53: 10 | E53: =D53*100/C53 -> 71.428571 | F53: Vũ Đức Pháp | G53: 1 - 2
A54: 3 | B54: 17T4-CKL1 | C54: 45 | D54: 37 | E54: =D54*100/C54 -> 82.222222 | F54: Nguyễn Thị Thủy | G54: 3 - 5
A55: 4 | B55: 18T4-CCK1 | C55: 60 | D55: 51 | E55: =D55*100/C55 -> 85 | F55: Nguyễn Sanh Cường | G55: 1 - 6
A56: 5 | B56: 18C1-CCK1 | C56: 32 | D56: 23 | E56: =D56*100/C56 -> 71.875 | F56: Đỗ Thị Phương Khanh | G56: 1 - 6 | H56: 1
A57: 6 | B57: 18C1-CCK3 | C57: 28 | D57: 23 | E57: =D57*100/C57 -> 82.142857 | F57: Bùi Anh Tuấn | G57: 1 - 6 | H57: 1
A58: 7 | B58: 18C1-CCK4 | C58: 56 | D58: 36 | E58: =D58*100/C58 -> 64.285714 | F58: Nguyễn Khắc Huy | G58: 1 - 3
F59: Lư Thị Yến Vũ | G59: 4 - 4
A60: 8 | B60: 18C1-CCK5 | C60: 54 | D60: 54 | E60: =D60*100/C60 -> 100 | F60: Bùi Thành Dũng | G60: 1 - 2
F61: Nguyễn Duy Hải | G61: 3 - 3
F62: Nguyễn Khắc Huy | G62: 4 - 6
A63: 9 | B63: 18C1-CTM1 | C63: 58 | D63: 39 | E63: =D63*100/C63 -> 67.241379 | F63: Trần Văn Lượng | G63: 1 - 3
A64: 10 | B64: 19C1-BCN1 | C64: 35 | D64: 25 | E64: =D64*100/C64 -> 71.428571 | F64: Võ Minh Quang | G64: 1 - 6
A65: 11 | B65: 19C1-CCK1 | C65: 58 | D65: 32 | E65: =D65*100/C65 -> 55.172414 | F65: Vũ Quang Khải | G65: 1 - 3
F66: Vũ Quang Khải | G66: 4 - 5
A67: 12 | B67: 19C1-CCK4 | C67: 58 | D67: 38 | E67: =D67*100/C67 -> 65.517241 | F67: Trương Thị Phương Hồng | G67: 4 - 5
A68: 13 | B68: 19C1-CCK5 | C68: 60 | D68: 33 | E68: =D68*100/C68 -> 55 | F68: Trương Thị Phương Hồng | G68: 1 - 2
F69: Trần Thị Hương | G69: 3 - 4
A70: 14 | B70: 19C1-CTM1 | C70: 65 | D70: 41 | E70: =D70*100/C70 -> 63.076923 | F70: Hà Phước Tuấn | G70: 1 - 3
F71: Hà Phước Tuấn | G71: 4 - 5
A72: 15 | B72: 19C1-CTM1 | C72: 80 | D72: 41 | E72: =D72*100/C72 -> 51.25 | F72: Nguyễn Tiến Dũng | G72: 6 - 6
A73: 16 | B73: 19C3-CCK1 | C73: 33 | D73: 27 | E73: =D73*100/C73 -> 81.818182 | F73: Nguyễn Thanh Giang | G73: 1 - 2
F74: Nguyễn Thanh Giang | G74: 3 - 6
A75: =A73 -> 16 | B75: Tổng cộng = | C75: =SUM(C52:C74) -> 762 | D75: =SUM(D52:D74) -> 531 | E75: =D75*100/C75 -> 69.685039
A76: Động lực
A77: 1 | B77: 17T4-CNÔ1 | C77: 27 | D77: 15 | E77: =D77*100/C77 -> 55.555556 | F77: Lê Văn Hải (TG) | G77: 1 - 6 | H77: 1
A78: 2 | B78: 17T4-CNÔ2 | C78: 36 | D78: 32 | E78: =D78*100/C78 -> 88.888889 | F78: Kiều Trung Tín | G78: 1 - 5
F79: Nguyễn Ngọc Quỳnh | G79: 6 - 6
A80: 3 | B80: 17T4-CNÔ3 | C80: 37 | D80: 33 | E80: =D80*100/C80 -> 89.189189 | F80: Trần Thị Ánh Tuyết | G80: 1 - 1
F81: Nguyễn Văn Hậu | G81: 2 - 3
A82: 4 | B82: 18T4-CNÔ4 | C82: 46 | D82: 30 | E82: =D82*100/C82 -> 65.217391 | F82: Dương Ngọc Vọng | G82: 1 - 2
F83: Dương Ngọc Vọng | G83: 3 - 6
A84: 5 | B84: 19T4-CNÔ2 | C84: 62 | D84: 48 | E84: =D84*100/C84 -> 77.419355 | F84: Nguyễn Thị Bích Hồng (TG) | G84: 1 - 2
F85: Đặng Thị Kiến Trúc | G85: 3 - 4
A86: 6 | B86: 19T4-CNÔ3 | C86: 58 | D86: 44 | E86: =D86*100/C86 -> 75.862069 | F86: Nguyễn Thị Bích Hồng (TG) | G86: 3 - 4
F87: Đặng Thị Kiến Trúc | G87: 5 - 6
A88: 7 | B88: 19T4-CNÔ4 | C88: 62 | D88: 53 | E88: =D88*100/C88 -> 85.483871 | F88: Đặng Thị Kiến Trúc | G88: 1 - 2
F89: Phan Thị Thùy Trang | G89: 3 - 3
A90: 8 | B90: 19T4-CNÔ5 | C90: 63 | D90: 48 | E90: =D90*100/C90 -> 76.190476 | F90: Lý Văn Trung | G90: 1 - 4
F91: Dương Đức Kiên | G91: 5 - 6
A92: 9 | B92: 18C1-CNÔ3 | C92: 23 | D92: 18 | E92: =D92*100/C92 -> 78.26087 | F92: Hà Quốc Bảo | G92: 1 - 2 | H92: 1
A93: 10 | B93: 18C1-CNÔ3 | C93: 22 | D93: 18 | E93: =D93*100/C93 -> 81.818182 | F93: Hà Quốc Bảo | G93: 3 - 6 | H93: 1
A94: 11 | B94: 18C1-CNÔ6 | C94: 270 | D94: 214 | E94: =D94*100/C94 -> 79.259259 | F94: Hoàng Phúc Bảo | G94: 1 - 2 | H94: Học online
A95: 12 | B95: 18C1-CNÔ8 | C95: 49 | D95: 36 | E95: =D95*100/C95 -> 73.469388 | F95: Nguyễn Lương Tâm | G95: 1 - 1
F96: Nguyễn Lương Tâm | G96: 2 - 2
F97: Nguyễn Lương Tâm | G97: 3 - 4
A98: 13 | B98: 18C1-CNÔ8 | C98: 49 | D98: 36 | E98: =D98*100/C98 -> 73.469388 | F98: Đặng Thị Nhật Minh | G98: 5 - 6
A99: 14 | B99: 18C1-CNÔ10 | C99: 25 | D99: 24 | E99: =D99*100/C99 -> 96 | F99: Trần Thế Sơn | G99: 1 - 5 | H99: 1
A100: 15 | B100: 18C1-CNÔ11 | C100: 23 | D100: 14 | E100: =D100*100/C100 -> 60.869565 | F100: Nguyễn Văn Tuấn Anh (TG) | G100: 1 - 2 | H100: 1
C101: 23 | D101: 14 | E101: =D101*100/C101 -> 60.869565 | F101: Nguyễn Văn Tuấn Anh (TG) | G101: 3 - 6 | H101: 1
A102: 16 | B102: 18C1-CNÔ12 | C102: 27 | D102: 25 | E102: =D102*100/C102 -> 92.592593 | F102: Đặng Thái Sơn | G102: 1 - 2 | H102: 1
...

Sheet BC_Chiều
A1: TRƯỜNG CAO ĐẲNG LÝ TỰ TRỌNG | E1: CỘNG HÒA XÃ HỘI CHỦ NGHĨA VIỆT NAM
A2: THÀNH PHỐ HỒ CHÍ MINH | E2: Độc lập - Tự do - Hạnh phúc
A3: PHÒNG THANH TRA GIÁO DỤC
A4: - CÔNG TÁC SINH VIÊN
A6: BÁO CÁO NHANH
A7: Tình hình học sinh, sinh viên đi học
A8: (Chiều 13/5/2020)
A10: S TT | B10: LỚP | C10: Tổng số | D10: Hiện diện | E10: % | G10: Tiết | H10: Ghi chú
A11: Điện, Điện tử
A12: 1 | B12: 18T4-CĐT1 | C12: 39 | D12: 34 | E12: =D12*100/C12 -> 87.179487 | F12: Nguyễn Văn Thiệt (TG) | G12: 7 - 8
F13: Nguyễn Thị Huyền Nga | G13: 9 - 10
F14: Nguyễn Ngọc Chương (TG) | G14: 11 - 12
A15: 2 | B15: 18T4-ĐCN1 | C15: 55 | D15: 43 | E15: =D15*100/C15 -> 78.181818 | F15: Nguyễn Ngọc Chương (TG) | G15: 7 - 8
F16: Nguyễn Văn Thiệt (TG) | G16: 9 - 10
F17: Nguyễn Thị Huyền Nga | G17: 11 - 12
A18: 3 | B18: 18T4-ĐĐT1 | C18: 42 | D18: 33 | E18: =D18*100/C18 -> 78.571429 | F18: Nguyễn Thị Huyền Nga | G18: 7 - 8
F19: Nguyễn Ngọc Chương (TG) | G19: 9 - 10
F20: Nguyễn Văn Thiệt (TG) | G20: 11 - 12
A21: 4 | B21: 19T2-ĐCN1 | C21: 37 | D21: 24 | E21: =D21*100/C21 -> 64.864865 | F21: Nguyễn Anh Tăng | G21: 7 - 8
F22: Nguyễn Hồng Đức | G22: 9 - 10
A23: 5 | B23: 15CĐ_HL1_19C1-CĐT1 | C23: 53 | D23: 42 | E23: =D23*100/C23 -> 79.245283 | F23: Nguyễn Mạnh Phương | G23: 11 - 12
A24: 6 | B24: 17C1_HL1_19C1-CĐT1 | C24: 53 | D24: 37 | E24: =D24*100/C24 -> 69.811321 | F24: Phạm Thị Vinh | G24: 7 - 9
A25: 7 | B25: 18C1-CĐT1 | C25: 33 | D25: 17 | E25: =D25*100/C25 -> 51.515152 | F25: Trần Giang Nam | G25: 7 - 12 | H25: 2
A26: 8 | B26: 18C1-ĐCN1 | C26: 21 | D26: 19 | E26: =D26*100/C26 -> 90.47619 | F26: Trần Công Tiến | G26: 7 - 11 | H26: 2
A27: 9 | B27: 18C1-ĐCN4 | C27: 24 | D27: 17 | E27: =D27*100/C27 -> 70.833333 | F27: Võ Cường | G27: 7 - 12 | H27: 2
A28: 10 | B28: 18C1-TĐH1 | C28: 34 | D28: 26 | E28: =D28*100/C28 -> 76.470588 | F28: Nguyễn Minh Đức(B) | G28: 7 - 12 | H28: 2
A29: 11 | B29: 19C1-CĐT1 | C29: 51 | D29: 38 | E29: =D29*100/C29 -> 74.509804 | F29: Ngô Phong Cường | G29: 10 - 10
A30: 12 | B30: 19C1-ĐĐT1 | C30: 58 | D30: 43 | E30: =D30*100/C30 -> 74.137931 | F30: Nguyễn Mạnh Phương | G30: 8 - 10
A31: 13 | B31: 19C1-ĐĐT3 | C31: 48 | D31: 33 | E31: =D31*100/C31 -> 68.75 | F31: Lê Thị Mai Hường | G31: 7 - 8
F32: Trần Hiếu Trinh | G32: 9 - 10
F33: Lê Thái Hùng | G33: 11 - 12
A34: =A31 -> 13 | B34: Tổng cộng = | C34: =SUM(C12:C33) -> 548 | D34: =SUM(D12:D33) -> 406 | E34: =D34*100/C34 -> 74.087591
A35: Cơ khí
A36: 1 | B36: 16TCN_HL1_19T2-CCK1 | C36: 27 | D36: 15 | E36: =D36*100/C36 -> 55.555556 | F36: Nguyễn Hồng Phúc | G36: 7 - 8
F37: Nguyễn Hồng Phúc | G37: 11 - 12 | H37: HB01/01/2020
A38: 2 | B38: 17T4-CCK1 | C38: 25 | D38: 15 | E38: =D38*100/C38 -> 60 | F38: Phan Văn Thành | G38: 7 - 12 | H38: 2
A39: 3 | B39: 17T4-CKL1 | C39: 229 | D39: 167 | E39: =D39*100/C39 -> 72.925764 | F39: Lê Văn Bình | G39: 10 - 12 | H39: Học online
A40: 4 | B40: 19T4-CCK1 | C40: 67 | D40: 46 | E40: =D40*100/C40 -> 68.656716 | F40: Dương Minh Chung | G40: 7 - 7
F41: Nguyễn Văn Bộ (TG) | G41: 8 - 12
A42: 5 | B42: 19T4-CKC1 | C42: 58 | D42: 45 | E42: =D42*100/C42 -> 77.586207 | F42: Nguyễn Thị Cẩm Hà (TG) | G42: 9 - 12 | H42: 1
A43: 6 | B43: 19T2-CCK1 | C43: 26 | D43: 15 | E43: =D43*100/C43 -> 57.692308 | F43: Nguyễn Hồng Phúc | G43: 9 - 10
A44: 7 | B44: 18C1-CCK1 | C44: 28 | D44: 22 | E44: =D44*100/C44 -> 78.571429 | F44: Đỗ Thị Phương Khanh | G44: 7 - 12 | H44: 2
A45: 8 | B45: 18C1-CCK2 | C45: 55 | D45: 40 | E45: =D45*100/C45 -> 72.727273 | F45: Hà Phước Tuấn | G45: 8 - 9
A46: 9 | B46: 18C1-CCK2 | C46: 74 | D46: 42 | E46: =D46*100/C46 -> 56.756757 | F46: Vũ Đức Pháp | G46: 10 - 10
A47: 10 | B47: 18C1-CCK3 | C47: 28 | D47: 21 | E47: =D47*100/C47 -> 75 | F47: Bùi Anh Tuấn | G47: 7 - 12 | H47: 2
A48: 11 | B48: 19C1-CCK1 | C48: 56 | D48: 42 | E48: =D48*100/C48 -> 75 | F48: Nguyễn Ngọc Hiệp | G48: 9 - 10
F49: Trương Thị Phương Hồng | G49: 11 - 12
A50: 12 | B50: 19C1-CCK2 | C50: 60 | D50: 37 | E50: =D50*100/C50 -> 61.666667 | F50: Võ Minh Quang | G50: 7 - 12
A51: 13 | B51: 19C1-CCK3 | C51: 52 | D51: 40 | E51: =D51*100/C51 -> 76.923077 | F51: Trương Thị Phương Hồng | G51: 7 - 8
F52: Trần Thị Hương | G52: 9 - 10
A53: 14 | B53: 19C1-CCK4 | C53: 56 | D53: 37 | E53: =D53*100/C53 -> 66.071429 | F53: Trần Thị Hương | G53: 7 - 8
F54: Trương Thị Phương Hồng | G54: 9 - 10
F55: Nguyễn Khắc Huy | G55: 11 - 11
A56: =A53 -> 14 | B56: Tổng cộng = | C56: =SUM(C36:C55) -> 841 | D56: =SUM(D36:D55) -> 584 | E56: =D56*100/C56 -> 69.441141
A57: Động lực
A58: 1 | B58: 16TC_HL1_19T2-CNÔ1 | C58: 65 | D58: 37 | E58: =D58*100/C58 -> 56.923077 | F58: Nguyễn Hữu Mạnh | G58: 7 - 9
A59: 2 | B59: 17T4-CNÔ1 | C59: 26 | D59: 16 | E59: =D59*100/C59 -> 61.538462 | F59: Phan Anh Tuấn Kiệt | G59: 7 - 12 | H59: 2
A60: 3 | B60: 17T4-CNÔ3 | C60: 37 | D60: 32 | E60: =D60*100/C60 -> 86.486486 | F60: Lê Văn Hải (TG) | G60: 7 - 12
A61: 4 | B61: 18T4-CNÔ1 | C61: 44 | D61: 31 | E61: =D61*100/C61 -> 70.454545 | F61: Lê Quý Hưng Quốc | G61: 7 - 8
F62: Lê Quý Hưng Quốc | G62: 9 - 12
A63: 5 | B63: 18T4-CNÔ2 | C63: 47 | D63: 35 | E63: =D63*100/C63 -> 74.468085 | F63: Nguyễn Thanh Giang | G63: 8 - 12
A64: 6 | B64: 18T4-CNÔ3 | C64: 46 | D64: 37 | E64: =D64*100/C64 -> 80.434783 | F64: Bùi Thị Hợp (TG) | G64: 7 - 8
F65: Nguyễn Văn Hậu | G65: 9 - 10
F66: Nguyễn Ngô Anh Tuấn (TG) | G66: 11 - 12
A67: 7 | B67: 18T4-CNÔ4 | C67: 46 | D67: 34 | E67: =D67*100/C67 -> 73.913043 | F67: Bùi Thị Ngọc Tuyền (TG) | G67: 9 - 10
A68: 8 | B68: 18T4-CNÔ5 | C68: 45 | D68: 31 | E68: =D68*100/C68 -> 68.888889 | F68: Bùi Thị Ngọc Tuyền (TG) | G68: 7 - 8
F69: Nguyễn Lê Thuận (TG) | G69: 9 - 10
F70: Hà Như Mai | G70: 11 - 12
A71: 9 | B71: 19T2-CNÔ1 | C71: 65 | D71: 39 | E71: =D71*100/C71 -> 60 | F71: Nguyễn Hữu Mạnh | G71: 10 - 12
A72: 10 | B72: 18C1-CNÔ3 | C72: 23 | D72: 18 | E72: =D72*100/C72 -> 78.26087 | F72: Hà Quốc Bảo | G72: 7 - 8 | H72: 2
F73: Hà Quốc Bảo | G73: 9 - 12 | H73: 2
A74: 11 | B74: 18C1-CNÔ5 | C74: 48 | D74: 38 | E74: =D74*100/C74 -> 79.166667 | F74: Trần Văn Đông | G74: 7 - 7
F75: Trần Văn Đông | G75: 8 - 9
F76: Đặng Thị Nhật Minh | G76: 10 - 11
A77: 12 | B77: 18C1-CNÔ7 | C77: 47 | D77: 34 | E77: =D77*100/C77 -> 72.340426 | F77: Nguyễn Văn Thành | G77: 7 - 7
F78: Đặng Thị Nhật Minh | G78: 8 - 9
F79: Trần Văn Đông | G79: 10 - 11
A80: 13 | B80: 18C1-CNÔ9 | C80: 24 | D80: 20 | E80: =D80*100/C80 -> 83.333333 | F80: Đỗ Hoàng Duy (TG) | G80: 7 - 11 | H80: 1
A81: 14 | B81: 18C1-CNÔ10 | C81: 25 | D81: 19 | E81: =D81*100/C81 -> 76 | F81: Trần Thế Sơn | G81: 7 - 11 | H81: 2
A82: 15 | B82: 18C1-CNÔ11 | C82: 22 | D82: 17 | E82: =D82*100/C82 -> 77.272727 | F82: Lý Văn Trung | G82: 7 - 8 | H82: 2
C83: 22 | D83: 17 | E83: =D83*100/C83 -> 77.272727 | F83: Lý Văn Trung | G83: 9 - 12 | H83: 2
A84: 16 | B84: 18C1-CNÔ12 | C84: 26 | D84: 20 | E84: =D84*100/C84 -> 76.923077 | F84: Đặng Thái Sơn | G84: 7 - 8 | H84: 2
C85: 26 | D85: 20 | E85: =D85*100/C85 -> 76.923077 | F85: Đặng Thái Sơn | G85: 9 - 12 | H85: 2
A86: 17 | B86: 18C1-CNÔ14 | C86: 22 | D86: 18 | E86: =D86*100/C86 -> 81.818182 | F86: Nguyễn Lương Tâm | G86: 7 - 8 | H86: 2
C87: 22 | D87: 18 | E87: =D87*100/C87 -> 81.818182 | F87: Nguyễn Lương Tâm | G87: 9 - 12 | H87: 2
A88: 18 | B88: 18C1-CNÔ16 | C88: 23 | D88: 15 | E88: =D88*100/C88 -> 65.217391 | F88: Hoàng Phúc Bảo | G88: 7 - 8 | H88: 1
C89: 22 | D89: 20 | E89: =D89*100/C89 -> 90.909091 | F89: Nguyễn Văn Tuấn Anh (TG) | G89: 7 - 8 | H89: 2
F90: Hoàng Phúc Bảo | G90: 9 - 12 | H90: 1
F91: Nguyễn Văn Tuấn Anh (TG) | G91: 9 - 12 | H91: 2
A92: 19 | B92: 18C1-CNÔ17 | C92: 22 | D92: 14 | E92: =D92*100/C92 -> 63.636364 | F92: Nguyễn Thái Bình | G92: 7 - 11 | H92: 2
A93: 20 | B93: 19C1-CNÔ1 | C93: 58 | D93: 30 | E93: =D93*100/C93 -> 51.724138 | F93: Nguyễn Thanh Vũ | G93: 7 - 9
F94: Nguyễn Thị Bảo Trân | G94: 10 - 10
A95: 21 | B95: 19C1-CNÔ3 | C95: 28 | D95: 28 | E95: =D95*100/C95 -> 100 | F95: Trần Quốc Duy | G95: 7 - 12 | H95: 2
A96: 22 | B96: 19C1-CNÔ4 | C96: 28 | D96: 26 | E96: =D96*100/C96 -> 92.857143 | F96: Võ Đắc Thịnh | G96: 7 - 11 | H96: 1
A97: 23 | B97: 19C1-CNÔ5 | C97: 57 | D97: 41 | E97: =D97*100/C97 -> 71.929825 | F97: Lê Văn Bình | G97: 9 - 9
F98: Nguyễn Thanh Vũ | G98: 10 - 12
A99: 24 | B99: 19C1-CNÔ9 | C99: 49 | D99: 28 | E99: =D99*100/C99 -> 57.142857 | F99: Nguyễn Thị Hiền | G99: 7 - 7
F100: Vũ Quang Khải | G100: 8 - 12
A101: 25 | B101: 19C3-CNÔ1 | C101: 29 | D101: 25 | E101: =D101*100/C101 -> 86.206897 | F101: Trần Đình Khải | G101: 7 - 12
A102: 26 | B102: 19C3-CNÔ2 | C102: 31 | D102: 25 | E102: =D102*100/C102 -> 80.645161 | F102: Hồ Văn Hóa | G102: 7 - 12
...

Sheet BC_Tối
A1: TRƯỜNG CAO ĐẲNG LÝ TỰ TRỌNG | E1: CỘNG HÒA XÃ HỘI CHỦ NGHĨA VIỆT NAM
A2: THÀNH PHỐ HỒ CHÍ MINH | E2: Độc lập - Tự do - Hạnh phúc
A3: PHÒNG THANH TRA GIÁO DỤC
A4: - CÔNG TÁC SINH VIÊN
A6: BÁO CÁO NHANH
A7: Tình hình học sinh, sinh viên đi học
A8: (Tối 13/5/2020)
A10: S TT | B10: LỚP | C10: Tổng số | D10: Hiện diện | E10: % | G10: Tiết | H10: Ghi chú
A11: Điện, Điện tử
A12: 1 | B12: 19T4-CĐT1 | C12: 257 | D12: 100 | E12: =D12*100/C12 -> 38.910506 | F12: Trần Nhi Diễm Huỳnh (TG) | G12: 13 - 14 | H12: Học online
A13: 2 | B13: 18T7-ĐCN1 | C13: 39 | D13: 30 | E13: =D13*100/C13 -> 76.923077 | F13: Nguyễn Thanh Tú | G13: 13 - 17
A14: 3 | B14: 19C2-ĐĐT1 | C14: 40 | D14: 20 | E14: =D14*100/C14 -> 50 | F14: Mạnh Lê Hoàn | G14: 13 - 16
A15: =A14 -> 3 | B15: Tổng cộng = | C15: =SUM(C12:C14) -> 336 | D15: =SUM(D12:D14) -> 150 | E15: =D15*100/C15 -> 44.642857
A16: Cơ khí
A17: 1 | B17: 18C1-BCN1 | C17: 46 | D17: 35 | E17: =D17*100/C17 -> 76.086957 | F17: Nguyễn Tiến Dũng | G17: 13 - 14
A18: 2 | B18: 18C1-CCK2 | C18: 27 | D18: 21 | E18: =D18*100/C18 -> 77.777778 | F18: Nguyễn Duy Hải | G18: 13 - 17 | H18: 2
A19: 3 | B19: 18C1-CCK5 | C19: 27 | D19: 22 | E19: =D19*100/C19 -> 81.481481 | F19: Đỗ Thị Phương Khanh | G19: 13 - 17 | H19: 2
A20: 4 | B20: 19C2-CCK1 | C20: 36 | D20: 30 | E20: =D20*100/C20 -> 83.333333 | F20: Chung Trần Thế Vinh | G20: 13 - 16
A21: =A20 -> 4 | B21: Tổng cộng = | C21: =SUM(C17:C20) -> 136 | D21: =SUM(D17:D20) -> 108 | E21: =D21*100/C21 -> 79.411765
A22: Động lực
A23: 1 | B23: 18C1-CNÔ1 | C23: 32 | D23: 24 | E23: =D23*100/C23 -> 75 | F23: Lý Văn Trung | G23: 13 - 16 | H23: 1
C24: 32 | D24: 17 | E24: =D24*100/C24 -> 53.125 | F24: Lê Văn Hải (TG) | G24: 13 - 16 | H24: 2
A25: 2 | B25: 18C1-CNÔ8 | C25: 25 | D25: 15 | E25: =D25*100/C25 -> 60 | F25: Triệu Phú Nguyên | G25: 13 - 16 | H25: 1
A26: 3 | B26: 19C1-CNÔ1 | C26: 30 | D26: 15 | E26: =D26*100/C26 -> 50 | F26: Trần Quốc Duy | G26: 13 - 16 | H26: 1
A27: 4 | B27: 19C1-CNÔ4 | C27: 54 | D27: 41 | E27: =D27*100/C27 -> 75.925926 | F27: Võ Minh Quang | G27: 13 - 17
A28: 5 | B28: 19C1-CNÔ6 | C28: 51 | D28: 36 | E28: =D28*100/C28 -> 70.588235 | F28: Lê Văn Tha (TG) | G28: 13 - 16
A29: 6 | B29: 19C1-CNÔ8 | C29: 55 | D29: 41 | E29: =D29*100/C29 -> 74.545455 | F29: Phan Anh Tuấn Kiệt | G29: 13 - 16
A30: 7 | B30: 19C1-CNÔ10 | C30: 28 | D30: 15 | E30: =D30*100/C30 -> 53.571429 | F30: Nguyễn Văn Sơn | G30: 13 - 17 | H30: 2
A31: 8 | B31: 19C1-CNÔ12 | C31: 29 | D31: 17 | E31: =D31*100/C31 -> 58.62069 | F31: Võ Đắc Thịnh | G31: 13 - 16 | H31: 1
A32: 9 | B32: 19C2-CNÔ1 | C32: 50 | D32: 37 | E32: =D32*100/C32 -> 74 | F32: Nguyễn Thanh Giang | G32: 13 - 16
A33: =A32 -> 9 | B33: Tổng cộng = | C33: =SUM(C23:C32) -> 386 | D33: =SUM(D23:D32) -> 258 | E33: =D33*100/C33 -> 66.839378
A34: Công nghệ thông tin
A35: 1 | B35: 19T5-THU1 | C35: 41 | D35: 12 | E35: =D35*100/C35 -> 29.268293 | F35: Nguyễn Thị Thu Hà | G35: 13 - 14 | H35: 110
F36: Nguyễn Thị Thu Hà | G36: 15 - 17 | H36: 110
A37: 2 | B37: 18C1-LTM1 | C37: 38 | D37: 30 | E37: =D37*100/C37 -> 78.947368 | F37: Nguyễn Văn Danh | G37: 13 - 14
F38: Nguyễn Văn Danh | G38: 15 - 16
A39: 3 | B39: 18C1-LTM2 | C39: 32 | D39: 16 | E39: =D39*100/C39 -> 50 | F39: Nguyễn Cao Phong | G39: 13 - 13
F40: Nguyễn Cao Phong | G40: 14 - 15
A41: 4 | B41: 18C1-TKĐ1 | C41: 53 | D41: 45 | E41: =D41*100/C41 -> 84.90566 | F41: Huỳnh Quốc Dũng | G41: 13 - 16
A42: 5 | B42: 19C2-QTM1 | C42: 41 | D42: 28 | E42: =D42*100/C42 -> 68.292683 | F42: Dương Ngọc Vọng | G42: 13 - 15
F43: Dương Ngọc Vọng | G43: 16 - 16
A44: =A42 -> 5 | B44: Tổng cộng = | C44: =SUM(C35:C43) -> 205 | D44: =SUM(D35:D43) -> 131 | E44: =D44*100/C44 -> 63.902439
A45: Kinh tế
A46: 1 | B46: 19C2-KTD1 | C46: 18 | D46: 17 | E46: =D46*100/C46 -> 94.444444 | F46: Lưu Thị Thúy | G46: 13 - 14
F47: Lê Thị Thu Thảo | G47: 15 - 16
A48: 2 | B48: 19C2-QTD1 | C48: 15 | D48: 15 | E48: =D48*100/C48 -> 100 | F48: Võ Thị Kim Thư | G48: 13 - 14
F49: Cao Xuân Giang | G49: 15 - 16
A50: =A48 -> 2 | B50: Tổng cộng = | C50: =SUM(C46:C49) -> 33 | D50: =SUM(D46:D49) -> 32 | E50: =D50*100/C50 -> 96.969697
A51: Nhiệt lạnh
A52: 1 | B52: 19C2-CNL1 | C52: 20 | D52: 10 | E52: =D52*100/C52 -> 50 | F52: Nguyễn Thanh Hải (TG) | G52: 13 - 15
A53: =A52 -> 1 | B53: Tổng cộng = | C53: =SUM(C52:C52) -> 20 | D53: =SUM(D52:D52) -> 10 | E53: =D53*100/C53 -> 50
A54: May - Thời trang
A55: 1 | B55: 18C2-CNM1 | C55: 8 | D55: 7 | E55: =D55*100/C55 -> 87.5 | F55: Trần Hồng Thảo
A56: =A55 -> 1 | B56: Tổng cộng = | C56: =SUM(C55:C55) -> 8 | D56: =SUM(D55:D55) -> 7 | E56: =D56*100/C56 -> 87.5
A57: Khoa học cơ bản
A58: 1 | B58: 18C1-AV2-10 | C58: 61 | D58: 44 | E58: =D58*100/C58 -> 72.131148 | F58: Vương Thanh Thủy | G58: 13 - 16
A59: 2 | B59: 18C1-AV2-12 | C59: 61 | D59: 45 | E59: =D59*100/C59 -> 73.770492 | F59: Võ Thị Hồng Lan | G59: 13 - 16
A60: 3 | B60: 18C1-AV2-13 | C60: 53 | D60: 36 | E60: =D60*100/C60 -> 67.924528 | F60: Nguyễn Văn Nghi (TG) | G60: 13 - 16
A61: 4 | B61: 18C1-AV2-14 | C61: 63 | D61: 53 | E61: =D61*100/C61 -> 84.126984 | F61: Lê Nguyễn Mỹ Trâm | G61: 13 - 16
A62: 5 | B62: 18C1-AV2-15 | C62: 59 | D62: 44 | E62: =D62*100/C62 -> 74.576271 | F62: Nguyễn Thị Bảo Trân | G62: 13 - 16
A63: 6 | B63: 18C1-AV2-16 | C63: 50 | D63: 28 | E63: =D63*100/C63 -> 56 | F63: Nguyễn Thị Thanh Tú | G63: 13 - 16
A64: 7 | B64: 18C1-AV2-17 | C64: 62 | D64: 45 | E64: =D64*100/C64 -> 72.580645 | F64: Nguyễn Thị Thu Tâm | G64: 13 - 16
A65: =A64 -> 7 | B65: Tổng cộng = | C65: =SUM(C58:C64) -> 409 | D65: =SUM(D58:D64) -> 295 | E65: =D65*100/C65 -> 72.127139
A66: =SUM(A15,A21,A33,A44,A50,A53,A56,A65) -> 32 | B66: Toàn trường = | C66: =SUM(C15,C21,C33,C44,C50,C53,C56,C65) -> 1533 | D66: =SUM(D15,D21,D33,D44,D50,D53,D56,D65) -> 991 | E66: =D66*100/C66 -> 64.644488
A68: * Ghi chú:
E69: TP.Hồ Chí Minh, ngày 13 tháng 5 năm 2020
E70: TRƯỞNG PHÒNG TTGD-CTSV
E75: Lê Xuân Thiện

Sheet BC.2019-2020
A1: TRƯỜNG CAO ĐẲNG LÝ TỰ TRỌNG | D1: CỘNG HÒA XÃ HỘI CHỦ NGHĨA VIỆT NAM
A2: THÀNH PHỐ HỒ CHÍ MINH | D2: Độc lập - Tự do - Hạnh phúc
A3: PHÒNG THANH TRA GIÁO DỤC
A4: - CÔNG TÁC SINH VIÊN
A6: BÁO CÁO NHANH
A7: Tình hình học sinh, sinh viên đi học
A8: (Ngày 13/5/2020)
A10: STT | B10: Các Khoa có lớp học | C10: Sáng 12/05/2020 | G10: Chiều 12/05/2020 | K10: Tối 12/05/2020 | O10: Ghi chú
C11: Lớp | D11: Tổng số | E11: Hiện diện | F11: Tỷ lệ HSSV vắng | G11: Lớp | H11: Tổng số | I11: Hiện diện | J11: Tỷ lệ HSSV vắng | K11: Lớp | L11: Tổng số | M11: Hiện diện | N11: Tỷ lệ HSSV vắng
A12: 1 | B12: Khoa Công nghệ Điện - Điện Tử | C12: =BC_Sáng!A50 -> 21 | D12: =BC_Sáng!C50 -> 875 | E12: =BC_Sáng!D50 -> 686 | F12: =E12*100/D12 -> 78.4 | G12: =BC_Chiều!A34 -> 13 | H12: =BC_Chiều!C34 -> 548 | I12: =BC_Chiều!D34 -> 406 | J12: =I12*100/H12 -> 74.087591 | K12: =BC_Tối!A15 -> 3 | L12: =BC_Tối!C15 -> 336 | M12: =BC_Tối!D15 -> 150 | N12: =M12*100/L12 -> 44.642857
A13: 2 | B13: Khoa Công nghệ Cơ Khí | C13: =BC_Sáng!A75 -> 16 | D13: =BC_Sáng!C75 -> 762 | E13: =BC_Sáng!D75 -> 531 | F13: =E13*100/D13 -> 69.685039 | G13: =BC_Chiều!A56 -> 14 | H13: =BC_Chiều!C56 -> 841 | I13: =BC_Chiều!D56 -> 584 | J13: =I13*100/H13 -> 69.441141 | K13: =BC_Tối!A21 -> 4 | L13: =BC_Tối!C21 -> 136 | M13: =BC_Tối!D21 -> 108 | N13: =M13*100/L13 -> 79.411765
A14: 3 | B14: Khoa Công nghệ Động Lực | C14: =BC_Sáng!A118 -> 28 | D14: =BC_Sáng!C118 -> 1398 | E14: =BC_Sáng!D118 -> 1055 | F14: =E14*100/D14 -> 75.46495 | G14: =BC_Chiều!A105 -> 27 | H14: =BC_Chiều!C105 -> 1093 | I14: =BC_Chiều!D105 -> 797 | J14: =I14*100/H14 -> 72.918573 | K14: =BC_Tối!A33 -> 9 | L14: =BC_Tối!C33 -> 386 | M14: =BC_Tối!D33 -> 258 | N14: =M14*100/L14 -> 66.839378
A15: 4 | B15: Khoa Công nghệ Thông tin | C15: =BC_Sáng!A150 -> 15 | D15: =BC_Sáng!C150 -> 673 | E15: =BC_Sáng!D150 -> 482 | F15: =E15*100/D15 -> 71.619614 | G15: =BC_Chiều!A133 -> 15 | H15: =BC_Chiều!C133 -> 859 | I15: =BC_Chiều!D133 -> 590 | J15: =I15*100/H15 -> 68.684517 | K15: =BC_Tối!A44 -> 5 | L15: =BC_Tối!C44 -> 205 | M15: =BC_Tối!D44 -> 131 | N15: =M15*100/L15 -> 63.902439
A16: 5 | B16: Khoa Kinh tế | C16: =BC_Sáng!A168 -> 8 | D16: =BC_Sáng!C168 -> 373 | E16: =BC_Sáng!D168 -> 279 | F16: =E16*100/D16 -> 74.798928 | G16: =BC_Chiều!A152 -> 9 | H16: =BC_Chiều!C152 -> 463 | I16: =BC_Chiều!D152 -> 346 | J16: =I16*100/H16 -> 74.730022 | K16: =BC_Tối!A50 -> 2 | L16: =BC_Tối!C50 -> 33 | M16: =BC_Tối!D50 -> 32 | N16: =M16*100/L16 -> 96.969697
A17: 6 | B17: Xây dựng | C17: =BC_Sáng!A175 -> 3 | D17: =BC_Sáng!C175 -> 120 | E17: =BC_Sáng!D175 -> 83 | F17: =E17*100/D17 -> 69.166667 | G17: =BC_Chiều!A155 -> 1 | H17: =BC_Chiều!C155 -> 221 | I17: =BC_Chiều!D155 -> 128 | J17: 0 | K17: =BC_Sáng!I71 -> 0 | L17: 0 | M17: 0 | N17: 0
A18: 7 | B18: Khoa Công nghệ Nhiệt - Lạnh | C18: =BC_Sáng!A189 -> 8 | D18: =BC_Sáng!C189 -> 426 | E18: =BC_Sáng!D189 -> 322 | F18: =E18*100/D18 -> 75.586854 | G18: =BC_Chiều!A164 -> 5 | H18: =BC_Chiều!C164 -> 222 | I18: =BC_Chiều!D164 -> 173 | J18: =I18*100/H18 -> 77.927928 | K18: =BC_Tối!A53 -> 1 | L18: =BC_Tối!C53 -> 20 | M18: =BC_Tối!D53 -> 10 | N18: 0
A19: 8 | B19: Khoa Công nghệ May - Thời trang | C19: =BC_Sáng!A194 -> 2 | D19: =BC_Sáng!C194 -> 100 | E19: =BC_Sáng!D194 -> 87 | F19: =E19*100/D19 -> 87 | G19: =BC_Chiều!A171 -> 2 | H19: =BC_Chiều!C171 -> 103 | I19: =BC_Chiều!D171 -> 86 | J19: =I19*100/H19 -> 83.495146 | K19: =BC_Tối!A56 -> 1 | L19: =BC_Tối!C56 -> 8 | M19: =BC_Tối!D56 -> 7 | N19: =M19*100/L19 -> 87.5
A20: 9 | B20: Khoa Khoa học cơ bản (NN Anh) | C20: =BC_Sáng!A205 -> 4 | D20: =BC_Sáng!C205 -> 208 | E20: =BC_Sáng!D205 -> 144 | F20: =E20*100/D20 -> 69.230769 | G20: =BC_Chiều!A181 -> 5 | H20: =BC_Chiều!C181 -> 273 | I20: =BC_Chiều!D181 -> 186 | J20: =I20*100/H20 -> 68.131868 | K20: =BC_Tối!A65 -> 7 | L20: =BC_Tối!C65 -> 409 | M20: =BC_Tối!D65 -> 295 | N20: =M20*100/L20 -> 72.127139
B21: TỔNG TOÀN TRƯỜNG | C21: =SUM(C12:C20) -> 105 | D21: =SUM(D12:D20) -> 4935 | E21: =SUM(E12:E20) -> 3669 | F21: =E21*100/D21 -> 74.346505 | G21: =SUM(G12:G20) -> 91 | H21: =SUM(H12:H20) -> 4623 | I21: =SUM(I12:I20) -> 3296 | J21: =I21*100/H21 -> 71.295695 | K21: =SUM(K12:K20) -> 32 | L21: =SUM(L12:L20) -> 1533 | M21: =SUM(M12:M20) -> 991 | N21: =M21*100/L21 -> 64.644488
B22: * Ghi chú:
D23: TP.Hồ Chí Minh, ngày 13 tháng 5 năm 2020
D24: TRƯỞNG PHÒNG CTCT-HSSV
D29: Lê Xuân Thiện
